BEGIN:VCALENDAR
VERSION:2.0
PRODID:-//Refind - ECPv6.15.17//NONSGML v1.0//EN
CALSCALE:GREGORIAN
METHOD:PUBLISH
X-ORIGINAL-URL:https://www.refind.sg
X-WR-CALDESC:Events for Refind
REFRESH-INTERVAL;VALUE=DURATION:PT1H
X-Robots-Tag:noindex
X-PUBLISHED-TTL:PT1H
BEGIN:VTIMEZONE
TZID:Asia/Shanghai
BEGIN:STANDARD
TZOFFSETFROM:+0800
TZOFFSETTO:+0800
TZNAME:CST
DTSTART:20250101T000000
END:STANDARD
END:VTIMEZONE
BEGIN:VTIMEZONE
TZID:Asia/Singapore
BEGIN:STANDARD
TZOFFSETFROM:+0800
TZOFFSETTO:+0800
TZNAME:+08
DTSTART:20250101T000000
END:STANDARD
END:VTIMEZONE
BEGIN:VEVENT
DTSTART;TZID=Asia/Shanghai:20260116T100000
DTEND;TZID=Asia/Shanghai:20260116T113000
DTSTAMP:20260419T224733
CREATED:20200428T053115Z
LAST-MODIFIED:20260102T043110Z
UID:1204-1768557600-1768563000@www.refind.sg
SUMMARY:Class 1 – Introduction to Sustainable Glass Making – How to “Open” a Bottle.
DESCRIPTION:📍Location: PT Refind Sustainable Solutions\, Ketewel\, Gianyar-Bali⏱ Duration: 1\,5 Hours👥 Small group experience \n\n\n\nAfter submitting this form\, our team will contact you to confirm availability and payment details. \n\n\n\n– Demonstration and assembling– Conducted in English– 4 people group $150– 1 person $40– 2 people $70– Max is 20 people – Min is 2 people– 1.5 hours– one kiln firing \n\n\n\nEnjoy a hands-on glassmaking experience and create a sustainable coaster or hanging charm from recycled bottle glass \n\n\n\nRefind: Introduction to Sustainable Glassmaking\n\n\n\nThe Refind class offers a hands-on introduction to glassmaking sustainability\, blending traditional artistrywith modern environmental responsibility. Participants learn how to ‘open a bottle’ and cut glass intosmaller components that can be assembled into functional and/or decorative pieces. Your instructor B.Jane Cowie will provide insights into the life cycle of bottle glasses and their environmental impact. Byemphasizing re-use and mindful product creation\, the class introduces creative ways to reduce waste andpromote a circular design mindset.\nStudents will have the chance to see how to cut glass\, the results of melting and effective ways toassemble and shape the glass. Guided by experienced artisans we prioritize safety and ecologicalawareness. And beyond technical skills\, the Refind class encourages participants to reflect on how designchoices influence sustainability – exploring themes such as energy efficiency\, material recovery and localwaste resourcefulness.\nThis introductory Refind Class is ideal for beginners and sustainability enthusiasts who are eager tocombine creativity with environmental action. By the end of the class\, participants will have been able tocraft their own upcycled glass creations but also gain a deeper appreciation for how sustainable practicescan reshape our relationship with materials and consumption. The result is art with purpose – mementosthat tell a story of renewal\, responsibility and design innovation.
URL:https://www.refind.sg/event/introduction-to-sustainable-glass-making/
LOCATION:Bali
CATEGORIES:Class
ATTACH;FMTTYPE=image/jpeg:https://www.refind.sg/wp-content/uploads/2020/04/SOJAO_01279_v01.jpg
ORGANIZER;CN="PT Refind Sustainable Solutions":MAILTO:bali@refind.sg
END:VEVENT
BEGIN:VEVENT
DTSTART;TZID=Asia/Singapore:20260116T100000
DTEND;TZID=Asia/Singapore:20260116T113000
DTSTAMP:20260419T224733
CREATED:20260102T065752Z
LAST-MODIFIED:20260102T065950Z
UID:42543-1768557600-1768563000@www.refind.sg
SUMMARY:Class 1 – Introduction to Sustainable Glass Making – How to “Open” a Bottle.
DESCRIPTION:📍Location: PT Refind Sustainable Solutions\, Ketewel\, Gianyar-Bali⏱ Duration: 1\,5 Hours👥 Small group experience \n\n\n\nAfter submitting this form\, our team will contact you to confirm availability and payment details. \n\n\n\n– Demonstration and assembling– Conducted in English– 4 people group $150– 1 person $40– 2 people $70– Max is 20 people – Min is 2 people– 1.5 hours– one kiln firing \n\n\n\nEnjoy a hands-on glassmaking experience and create a sustainable coaster or hanging charm from recycled bottle glass \n\n\n\nRefind: Introduction to Sustainable Glassmaking \n\n\n\nThe Refind class offers a hands-on introduction to glassmaking sustainability\, blending traditional artistry with modern environmental responsibility. Participants learn how to ‘open a bottle’ and cut glass into smaller components that can be assembled into functional and/or decorative pieces. Your instructor B. Jane Cowie will provide insights into the life cycle of bottle glasses and their environmental impact. By emphasizing re-use and mindful product creation\, the class introduces creative ways to reduce waste and promote a circular design mindset. \n\n\n\nStudents will have the chance to see how to cut glass\, the results of melting and effective ways toassemble and shape the glass. Guided by experienced artisans we prioritize safety and ecologicalawareness. And beyond technical skills\, the Refind class encourages participants to reflect on how design choices influence sustainability – exploring themes such as energy efficiency\, material recovery and local waste resourcefulness. \n\n\n\nThis introductory Refind Class is ideal for beginners and sustainability enthusiasts who are eager tocombine creativity with environmental action. By the end of the class\, participants will have been able to craft their own upcycled glass creations but also gain a deeper appreciation for how sustainable practices can reshape our relationship with materials and consumption. The result is art with purpose – mementos that tell a story of renewal\, responsibility and design innovation.
URL:https://www.refind.sg/event/class-1-introduction-to-sustainable-glass-making-how-to-open-a-bottle/
LOCATION:PT Refind Sustainable Solutions\, PT Refind Sustainable Solutions\, Ketewel\, Gianyar-Bali\, Gianyar\, Bali\, 80582\, Indonesia
CATEGORIES:Class
ORGANIZER;CN="PT Refind Sustainable Solutions":MAILTO:bali@refind.sg
END:VEVENT
END:VCALENDAR